BEGIN:VCALENDAR
VERSION:2.0
PRODID:-//Tukios.com/
BEGIN:VEVENT
UID:3a7f1e67-370e-4954-aedf-f07a912d9434@www.powellfuneralservice.com
DTSTAMP:20260422T011621Z
DTSTART:20260423T160000Z
DTEND:20260423T163000Z
SUMMARY:Graveside Service
DESCRIPTION:
URL:https://www.powellfuneralservice.com/obituaries/alice-massey
LOCATION:Foraker Cemetery     
GEO:0;0
END:VEVENT
END:VCALENDAR